BEGIN:VCALENDAR
VERSION:2.0
PRODID:-//Every Nation Rosebank - ECPv6.15.17.1//NONSGML v1.0//EN
CALSCALE:GREGORIAN
METHOD:PUBLISH
X-ORIGINAL-URL:https://everynationrosebank.org
X-WR-CALDESC:Events for Every Nation Rosebank
REFRESH-INTERVAL;VALUE=DURATION:PT1H
X-Robots-Tag:noindex
X-PUBLISHED-TTL:PT1H
BEGIN:VTIMEZONE
TZID:Africa/Johannesburg
BEGIN:STANDARD
TZOFFSETFROM:+0200
TZOFFSETTO:+0200
TZNAME:SAST
DTSTART:20160101T000000
END:STANDARD
END:VTIMEZONE
BEGIN:VEVENT
DTSTART;VALUE=DATE:20180218
DTEND;VALUE=DATE:20180326
DTSTAMP:20260420T162811
CREATED:20180119T080857Z
LAST-MODIFIED:20180215T102729Z
UID:3268-1518912000-1522022399@everynationrosebank.org
SUMMARY:Upcoming Missions
DESCRIPTION:There are two exciting opportunities to be part of Missions to Mehlobo\, Botswana and Zeerust\, 31 March – 04 April \nZeerust mission registration link: https://events.godochurch.com/?webCode=1002110 \nBotswana mission registration link: https://events.godochurch.com/?webCode=1002347 \nIf you’re interested or would like more info\, email: missionsrbk@enjhb.org
URL:https://everynationrosebank.org/event/upcoming-missions/
CATEGORIES:Missions
ATTACH;FMTTYPE=image/jpeg:https://everynationrosebank.org/wp-content/uploads/2018/01/fotolia_183131690.jpg
END:VEVENT
BEGIN:VEVENT
DTSTART;VALUE=DATE:20171207
DTEND;VALUE=DATE:20171208
DTSTAMP:20260420T162811
CREATED:20170815T092342Z
LAST-MODIFIED:20170815T092405Z
UID:2641-1512604800-1512691199@everynationrosebank.org
SUMMARY:Prayer and Fast for the Nations
DESCRIPTION:Every first Thursday of every month\, we take time out to pray and fast for a nation. This month we will be praying for the nation of Mauritiana in West Africa. \nPRAYER POINTS\n\n Pray for the Word of God to be preached among Mauritanians in their heart language.\n Pray for God’s mercy in the wake of severe drought and a poor economy that plagues the people.\n Pray for Christ’s freedom to be understood by those suffering under the bondage of slavery.
URL:https://everynationrosebank.org/event/prayer-and-fast-for-the-nations-4/
CATEGORIES:Missions
ATTACH;FMTTYPE=image/jpeg:https://everynationrosebank.org/wp-content/uploads/2017/07/Slide1.jpg
END:VEVENT
BEGIN:VEVENT
DTSTART;VALUE=DATE:20171102
DTEND;VALUE=DATE:20171103
DTSTAMP:20260420T162811
CREATED:20170815T091619Z
LAST-MODIFIED:20170815T091633Z
UID:2639-1509580800-1509667199@everynationrosebank.org
SUMMARY:Prayer and fast for the Nations
DESCRIPTION:Every first Thursday of every month\, we take time out to pray and fast for a nation. This month we will be praying for the nation of China. \nPRAYER POINTS\n\n Pray for continued Church growth and pure biblical teaching amid ongoing persecution.\n Pray for Jesus’ teachings to take deep root in the culture and expose all false religions.\n Pray for a renewed value for life to abolish abortion\, suicide\, abandonment\, and human trafficking.\n\n 
URL:https://everynationrosebank.org/event/prayer-and-fast-for-the-nations-3/
CATEGORIES:Missions
ATTACH;FMTTYPE=image/jpeg:https://everynationrosebank.org/wp-content/uploads/2017/07/Slide1.jpg
END:VEVENT
BEGIN:VEVENT
DTSTART;VALUE=DATE:20171005
DTEND;VALUE=DATE:20171006
DTSTAMP:20260420T162811
CREATED:20170815T091308Z
LAST-MODIFIED:20170815T100137Z
UID:2637-1507161600-1507247999@everynationrosebank.org
SUMMARY:Prayer and Fast for the Nations
DESCRIPTION:Every first Thursday of every month\, we take time out to pray and fast for a nation. This month we will be praying for the nation of Libya in Northern Africa. \nPRAYER POINTS\n\n Pray for a unified government that will rebuild the nation with justice and peace.\n Pray for the tiny Libyan Church to be united and established despite intense persecution.\n Pray for Jesus to reveal Himself to moderate and extremist Muslims alike.\n\n 
URL:https://everynationrosebank.org/event/prayer-and-fast-for-the-nations-2/
CATEGORIES:Missions
ATTACH;FMTTYPE=image/jpeg:https://everynationrosebank.org/wp-content/uploads/2017/07/Slide1.jpg
END:VEVENT
BEGIN:VEVENT
DTSTART;VALUE=DATE:20170923
DTEND;VALUE=DATE:20171002
DTSTAMP:20260420T162811
CREATED:20170810T072118Z
LAST-MODIFIED:20170810T072249Z
UID:2573-1506124800-1506902399@everynationrosebank.org
SUMMARY:Mission Trip
DESCRIPTION:In September\, Young Adults are going to a mission trip to Manzini\, Swaziland . There are two options if you would like to be part of this trip: \n1)23 September- 1 October (Full 9 days): R3100 \n2)23-25  September (3 day long weekend): R1000 \nTo register click on link: https://events.godochurch.com/?webCode=1001826 \nOr contact missionsrbk@enjhb.org for more details
URL:https://everynationrosebank.org/event/mission-trip/
CATEGORIES:Missions
ATTACH;FMTTYPE=image/jpeg:https://everynationrosebank.org/wp-content/uploads/2017/08/Slide1.jpg
END:VEVENT
BEGIN:VEVENT
DTSTART;VALUE=DATE:20170907
DTEND;VALUE=DATE:20170908
DTSTAMP:20260420T162811
CREATED:20170815T090933Z
LAST-MODIFIED:20170815T090949Z
UID:2635-1504742400-1504828799@everynationrosebank.org
SUMMARY:Prayer and Fast for the Nations
DESCRIPTION:Every first Thursday of every month\, we take time out to pray and fast for a nation. This month we will be praying for the nation of Yemen in Asia. \nPRAYER POINTS\n\n Pray for the Gospel to go forth in power despite current legal restrictions.\n Pray for freedom from the narcotic qat that holds 80% of Yemeni adults captive.\n Pray for the desperate economic situation to ignite a longing for lasting hope and security.\n\n 
URL:https://everynationrosebank.org/event/prayer-and-fast-for-the-nations/
CATEGORIES:Missions
ATTACH;FMTTYPE=image/jpeg:https://everynationrosebank.org/wp-content/uploads/2017/07/Slide1.jpg
END:VEVENT
BEGIN:VEVENT
DTSTART;VALUE=DATE:20170803
DTEND;VALUE=DATE:20170804
DTSTAMP:20260420T162811
CREATED:20170731T123610Z
LAST-MODIFIED:20170731T123614Z
UID:2545-1501718400-1501804799@everynationrosebank.org
SUMMARY:Pray and Fast for the Nations
DESCRIPTION:Every first Thursday of every month\, we take time out to pray and fast for a nation. This month we will be praying for the nation of Burkina Faso. \nPRAYER POINTS\n\n Pray for believers to deal biblically with extreme poverty issues and to overcome a dependence mentality.\n Pray for the occult power to be broken and made decisively subordinate to the name of Jesus.\n Pray for the indigenous church to continue to grow both in influence and as a missions-sending body.\n\n 
URL:https://everynationrosebank.org/event/pray-and-fast-for-the-nations/
CATEGORIES:Missions
ATTACH;FMTTYPE=image/jpeg:https://everynationrosebank.org/wp-content/uploads/2017/07/Slide1.jpg
ORGANIZER;CN="Missions":MAILTO:missionsrbk@enjhb.org
END:VEVENT
END:VCALENDAR