BEGIN:VCALENDAR
VERSION:2.0
PRODID:-//Every Nation Rosebank - ECPv6.15.17.1//NONSGML v1.0//EN
CALSCALE:GREGORIAN
METHOD:PUBLISH
X-ORIGINAL-URL:https://everynationrosebank.org
X-WR-CALDESC:Events for Every Nation Rosebank
REFRESH-INTERVAL;VALUE=DURATION:PT1H
X-Robots-Tag:noindex
X-PUBLISHED-TTL:PT1H
BEGIN:VTIMEZONE
TZID:Africa/Johannesburg
BEGIN:STANDARD
TZOFFSETFROM:+0200
TZOFFSETTO:+0200
TZNAME:SAST
DTSTART:20170101T000000
END:STANDARD
END:VTIMEZONE
BEGIN:VEVENT
DTSTART;VALUE=DATE:20251024
DTEND;VALUE=DATE:20251104
DTSTAMP:20260420T132113
CREATED:20250115T095935Z
LAST-MODIFIED:20250901T110822Z
UID:12117-1761264000-1762214399@everynationrosebank.org
SUMMARY:Mission trip to Portugal
DESCRIPTION:We’re going to Portugal! And you can be part of the team. \nNot only will you see God move in power\, bringing His love into a nation and a people that need Him\, but you yourself will be changed forever. That’s what missions do! \nSince 1994\, Every Nation churches around the world have answered the call to bring the Gospel to campuses and cities around the world. Consider joining our 2025 Eswatini Mission Team. \nIf you don’t feel called to go this time\, please consider partering with us in prayer or in financial support. \n  \nLisbon\, Portugal \n24 October – 3 November \nSign up through the ENR app or contact CJ for more information at cjs@enjhb.org \n  \n 
URL:https://everynationrosebank.org/event/missions-2025/
CATEGORIES:Missions
ATTACH;FMTTYPE=image/jpeg:https://everynationrosebank.org/wp-content/uploads/2025/04/MISSION-TO-PORTUGAL.jpg
END:VEVENT
BEGIN:VEVENT
DTSTART;VALUE=DATE:20250922
DTEND;VALUE=DATE:20250929
DTSTAMP:20260420T132113
CREATED:20250430T102302Z
LAST-MODIFIED:20250909T144616Z
UID:12725-1758499200-1759103999@everynationrosebank.org
SUMMARY:Mission trip to Eswatini
DESCRIPTION:22 – 28 September \nIt’s time to go to Eswatini. Join us on mission this year\, and not only will you see God move in power\, bringing His love into a nation and a people that need Him\, but you yourself will be changed forever. That’s what missions do! \nSince 1994\, Every Nation churches around the world have answered the call to bring the Gospel to campuses and cities around the world. Consider joining our 2025 Eswatini Mission Team. \nIf you don’t feel called to go this time\, please consider partering with us in prayer or in financial support. \nSign up through the ENR app or contact CJ for more information at cjs@enjhb.org
URL:https://everynationrosebank.org/event/mission-trip-to-eswatini/
CATEGORIES:Missions
ATTACH;FMTTYPE=image/png:https://everynationrosebank.org/wp-content/uploads/2023/05/MISSION-TO-ESWATINI_v2.png
END:VEVENT
BEGIN:VEVENT
DTSTART;TZID=Africa/Johannesburg:20250517T100000
DTEND;TZID=Africa/Johannesburg:20250517T140000
DTSTAMP:20260420T132113
CREATED:20250423T082837Z
LAST-MODIFIED:20250430T083948Z
UID:12694-1747476000-1747490400@everynationrosebank.org
SUMMARY:Mission Training
DESCRIPTION:In Matthew 28:19-20\, Jesus instructed the disciples (and therefore us) to go into all the nations to spread the Gospel. Missions is a way that we fulfill the Great Commission\, going into areas to support the local church and reach the community. \nIf you’re interested in going on any of our Ten Days Mission trips\, attending this training is essential. During this training\, we will equip you in how to raise your funds\, how to build your faith for the trip\, as well as going over roles and expectations for being on the mission field itself. \nSaturday 17 May \n10 am – 2 pm \nR100p/p (this is includes the Missions Manual) \nSign up here. \nFor more information\, please contact CJ at cjs@enjhb.org
URL:https://everynationrosebank.org/event/mission-training/
LOCATION:Boardroom
CATEGORIES:Missions
ATTACH;FMTTYPE=image/png:https://everynationrosebank.org/wp-content/uploads/2021/03/MISSIONS-TRAINING.png
END:VEVENT
BEGIN:VEVENT
DTSTART;VALUE=DATE:20240624
DTEND;VALUE=DATE:20240625
DTSTAMP:20260420T132113
CREATED:20240417T130621Z
LAST-MODIFIED:20240603T135731Z
UID:11477-1719187200-1719273599@everynationrosebank.org
SUMMARY:East London Mission
DESCRIPTION:Taking part in one of our Ten Days Missions is an opportunity to grow in your faith by serving another church and reaching people in that area. Planning for our upcoming mission to East London is in progress. This mission aims to impact the local community where Every Nation East London is based. You can be a part of this mission by praying for us\, giving towards the mission or going. \n  \n24 June – 2 July \nSign up here. \nInfo: cjs@enjhb.org
URL:https://everynationrosebank.org/event/east-london-mission/
CATEGORIES:Missions
ATTACH;FMTTYPE=image/png:https://everynationrosebank.org/wp-content/uploads/2023/11/10-DAY-MISSIONS_SA.png
END:VEVENT
BEGIN:VEVENT
DTSTART;TZID=Africa/Johannesburg:20221008T183000
DTEND;TZID=Africa/Johannesburg:20221008T183000
DTSTAMP:20260420T132113
CREATED:20190902T103320Z
LAST-MODIFIED:20220922T083211Z
UID:6069-1665253800-1665253800@everynationrosebank.org
SUMMARY:Reach Banquet
DESCRIPTION:If you support missions in any way\, or if you would like to be part of this fundraising event\, please join us for the Reach Banquet. We will be celebrating those who have partnered with us and reflect on all that God has done this year. \nIt is going to be a lovely evening of inspiration and fellowship. \n  \nSaturday 8 October \n18:30 \nConference Room \nR100 per person \nRegister here. \nRSVP:  missionsrbk@enjhb.org
URL:https://everynationrosebank.org/event/reach-banquet-2/
CATEGORIES:Missions
ATTACH;FMTTYPE=image/png:https://everynationrosebank.org/wp-content/uploads/2019/09/reach-banquet-small.png
END:VEVENT
BEGIN:VEVENT
DTSTART;VALUE=DATE:20200914
DTEND;VALUE=DATE:20201013
DTSTAMP:20260420T132113
CREATED:20200927T084155Z
LAST-MODIFIED:20200927T084155Z
UID:8129-1600041600-1602547199@everynationrosebank.org
SUMMARY:Shoe Drive
DESCRIPTION:
URL:https://everynationrosebank.org/event/shoe-drive/
CATEGORIES:Missions
ATTACH;FMTTYPE=image/jpeg:https://everynationrosebank.org/wp-content/uploads/2020/09/119736267_1730268333796921_5982565966592983173_o.jpg
END:VEVENT
BEGIN:VEVENT
DTSTART;VALUE=DATE:20200301
DTEND;VALUE=DATE:20200302
DTSTAMP:20260420T132113
CREATED:20191126T072442Z
LAST-MODIFIED:20191126T072508Z
UID:6536-1583020800-1583107199@everynationrosebank.org
SUMMARY:Missions Fundraiser
DESCRIPTION:The Missions Team will be selling Wors Rolls after each service to raise funds for upcoming missions. Please come and support them! \nmissionsrbk@enjhb.org
URL:https://everynationrosebank.org/event/missions-fundriaser/
CATEGORIES:Missions
ATTACH;FMTTYPE=image/jpeg:https://everynationrosebank.org/wp-content/uploads/2018/01/New-City-Wide-Slide11.jpg
END:VEVENT
BEGIN:VEVENT
DTSTART;VALUE=DATE:20200202
DTEND;VALUE=DATE:20200203
DTSTAMP:20260420T132113
CREATED:20191125T091515Z
LAST-MODIFIED:20191125T091520Z
UID:6471-1580601600-1580687999@everynationrosebank.org
SUMMARY:Missions Fundraiser
DESCRIPTION:The Missions Team will be selling Wors Rolls after each service to raise funds for upcoming missions. Please come and support them!
URL:https://everynationrosebank.org/event/missions-fundraiser/
CATEGORIES:Missions
ATTACH;FMTTYPE=image/jpeg:https://everynationrosebank.org/wp-content/uploads/2018/01/New-City-Wide-Slide11.jpg
END:VEVENT
BEGIN:VEVENT
DTSTART;VALUE=DATE:20200105
DTEND;VALUE=DATE:20200106
DTSTAMP:20260420T132113
CREATED:20191205T085233Z
LAST-MODIFIED:20191205T085238Z
UID:6813-1578182400-1578268799@everynationrosebank.org
SUMMARY:Missions Fundraiser
DESCRIPTION:The Missions Team will be selling Wors Rolls after each service to raise funds for upcoming missions. Please come and support them! \nmissionsrbk@enjhb.org
URL:https://everynationrosebank.org/event/missions-fundraiser-5/
CATEGORIES:Missions
ATTACH;FMTTYPE=image/jpeg:https://everynationrosebank.org/wp-content/uploads/2018/01/New-City-Wide-Slide11.jpg
END:VEVENT
BEGIN:VEVENT
DTSTART;TZID=Africa/Johannesburg:20191107T080000
DTEND;TZID=Africa/Johannesburg:20191107T170000
DTSTAMP:20260420T132113
CREATED:20190205T075338Z
LAST-MODIFIED:20190205T075345Z
UID:5315-1573113600-1573146000@everynationrosebank.org
SUMMARY:Prayer for the Nations
DESCRIPTION:Every first Thursday of every month\, we take time out to pray and fast for a nation. Today we will globally unite\, consecrating our devotional time in fasting and praying for the nation of Cyprus.
URL:https://everynationrosebank.org/event/prayer-for-the-nations-17/
CATEGORIES:Missions
ATTACH;FMTTYPE=image/jpeg:https://everynationrosebank.org/wp-content/uploads/2019/02/fotolia_244470673.jpg
END:VEVENT
BEGIN:VEVENT
DTSTART;VALUE=DATE:20191003
DTEND;VALUE=DATE:20191004
DTSTAMP:20260420T132113
CREATED:20190205T075129Z
LAST-MODIFIED:20190205T075136Z
UID:5312-1570060800-1570147199@everynationrosebank.org
SUMMARY:Prayer for the Nations
DESCRIPTION:Every first Thursday of every month\, we take time out to pray and fast for a nation. Today we will globally unite\, consecrating our devotional time in fasting and praying for the nation of Uganda.
URL:https://everynationrosebank.org/event/prayer-for-the-nations-16/
CATEGORIES:Missions
ATTACH;FMTTYPE=image/jpeg:https://everynationrosebank.org/wp-content/uploads/2019/02/fotolia_154264669.jpg
END:VEVENT
BEGIN:VEVENT
DTSTART;VALUE=DATE:20190905
DTEND;VALUE=DATE:20190906
DTSTAMP:20260420T132113
CREATED:20190205T074846Z
LAST-MODIFIED:20190205T074853Z
UID:5309-1567641600-1567727999@everynationrosebank.org
SUMMARY:Prayer for the Nations
DESCRIPTION:Every first Thursday of every month\, we take time out to pray and fast for a nation. Today we will globally unite\, consecrating our devotional time in fasting and praying for the nation of Turkmenistan.
URL:https://everynationrosebank.org/event/prayer-for-the-nations-15/
CATEGORIES:Missions
ATTACH;FMTTYPE=image/jpeg:https://everynationrosebank.org/wp-content/uploads/2019/02/fotolia_230245296.jpg
END:VEVENT
BEGIN:VEVENT
DTSTART;VALUE=DATE:20190801
DTEND;VALUE=DATE:20190802
DTSTAMP:20260420T132113
CREATED:20190205T074530Z
LAST-MODIFIED:20190205T074541Z
UID:5306-1564617600-1564703999@everynationrosebank.org
SUMMARY:Prayer for the Nations
DESCRIPTION:Every first Thursday of every month\, we take time out to pray and fast for a nation. Today we will globally unite\, consecrating our devotional time in fasting and praying for the nation of Egypt.
URL:https://everynationrosebank.org/event/prayer-for-the-nations-14/
CATEGORIES:Missions
ATTACH;FMTTYPE=image/jpeg:https://everynationrosebank.org/wp-content/uploads/2019/02/fotolia_244470722.jpg
END:VEVENT
BEGIN:VEVENT
DTSTART;VALUE=DATE:20190721
DTEND;VALUE=DATE:20190722
DTSTAMP:20260420T132113
CREATED:20190205T081913Z
LAST-MODIFIED:20190205T081922Z
UID:5334-1563667200-1563753599@everynationrosebank.org
SUMMARY:Communion Sunday
DESCRIPTION:
URL:https://everynationrosebank.org/event/communion-sunday-17/
CATEGORIES:Missions
ATTACH;FMTTYPE=image/jpeg:https://everynationrosebank.org/wp-content/uploads/2018/08/fotolia_207461450.jpg
END:VEVENT
BEGIN:VEVENT
DTSTART;VALUE=DATE:20190704
DTEND;VALUE=DATE:20190705
DTSTAMP:20260420T132113
CREATED:20190205T074321Z
LAST-MODIFIED:20190205T074330Z
UID:5303-1562198400-1562284799@everynationrosebank.org
SUMMARY:Prayer for the Nations
DESCRIPTION:Every first Thursday of every month\, we take time out to pray and fast for a nation. Today we will globally unite\, consecrating our devotional time in fasting and praying for the nation of Tajikistan.
URL:https://everynationrosebank.org/event/prayer-for-the-nations-13/
CATEGORIES:Missions
ATTACH;FMTTYPE=image/jpeg:https://everynationrosebank.org/wp-content/uploads/2019/02/fotolia_244602876.jpg
END:VEVENT
BEGIN:VEVENT
DTSTART;VALUE=DATE:20190606
DTEND;VALUE=DATE:20190607
DTSTAMP:20260420T132113
CREATED:20190205T074023Z
LAST-MODIFIED:20190205T074031Z
UID:5300-1559779200-1559865599@everynationrosebank.org
SUMMARY:Prayer for the Nation
DESCRIPTION:Every first Thursday of every month\, we take time out to pray and fast for a nation. Today we will globally unite\, consecrating our devotional time in fasting and praying for the nation of Somalia.
URL:https://everynationrosebank.org/event/prayer-for-the-nation-2/
CATEGORIES:Missions
ATTACH;FMTTYPE=image/jpeg:https://everynationrosebank.org/wp-content/uploads/2019/02/fotolia_234895480.jpg
END:VEVENT
BEGIN:VEVENT
DTSTART;VALUE=DATE:20190519
DTEND;VALUE=DATE:20190520
DTSTAMP:20260420T132113
CREATED:20190205T081412Z
LAST-MODIFIED:20190205T081420Z
UID:5330-1558224000-1558310399@everynationrosebank.org
SUMMARY:Communion Sunday
DESCRIPTION:
URL:https://everynationrosebank.org/event/communion-sunday-15/
CATEGORIES:Missions
ATTACH;FMTTYPE=image/jpeg:https://everynationrosebank.org/wp-content/uploads/2018/03/fotolia_141627132.jpg
END:VEVENT
BEGIN:VEVENT
DTSTART;VALUE=DATE:20190502
DTEND;VALUE=DATE:20190503
DTSTAMP:20260420T132113
CREATED:20190205T073649Z
LAST-MODIFIED:20190205T073655Z
UID:5297-1556755200-1556841599@everynationrosebank.org
SUMMARY:Prayer for the Nations
DESCRIPTION:Every first Thursday of every month\, we take time out to pray and fast for a nation. Today we will globally unite\, consecrating our devotional time in fasting and praying for the nation of Portugal.
URL:https://everynationrosebank.org/event/prayer-for-the-nations-12/
CATEGORIES:Missions
ATTACH;FMTTYPE=image/jpeg:https://everynationrosebank.org/wp-content/uploads/2019/02/fotolia_244471418.jpg
END:VEVENT
BEGIN:VEVENT
DTSTART;VALUE=DATE:20190404
DTEND;VALUE=DATE:20190405
DTSTAMP:20260420T132113
CREATED:20190205T065034Z
LAST-MODIFIED:20190205T065043Z
UID:5294-1554336000-1554422399@everynationrosebank.org
SUMMARY:Prayer for the Nations
DESCRIPTION:Every first Thursday of every month\, we take time out to pray and fast for a nation. Today we will globally unite\, consecrating our devotional time in fasting and praying for the nation of Rwanda.
URL:https://everynationrosebank.org/event/prayer-for-the-nations-11/
CATEGORIES:Missions
ATTACH;FMTTYPE=image/jpeg:https://everynationrosebank.org/wp-content/uploads/2019/02/fotolia_228370646.jpg
END:VEVENT
BEGIN:VEVENT
DTSTART;VALUE=DATE:20190307
DTEND;VALUE=DATE:20190308
DTSTAMP:20260420T132113
CREATED:20190205T064838Z
LAST-MODIFIED:20190205T064847Z
UID:5291-1551916800-1552003199@everynationrosebank.org
SUMMARY:Prayer for the Nations
DESCRIPTION:Every first Thursday of every month\, we take time out to pray and fast for a nation. Today we will globally unite\, consecrating our devotional time in fasting and praying for the nation of Lebanon.
URL:https://everynationrosebank.org/event/prayer-for-the-nations-10/
CATEGORIES:Missions
ATTACH;FMTTYPE=image/jpeg:https://everynationrosebank.org/wp-content/uploads/2019/02/fotolia_244471208.jpg
END:VEVENT
BEGIN:VEVENT
DTSTART;VALUE=DATE:20190207
DTEND;VALUE=DATE:20190208
DTSTAMP:20260420T132113
CREATED:20190201T080330Z
LAST-MODIFIED:20190205T063406Z
UID:5285-1549497600-1549583999@everynationrosebank.org
SUMMARY:Prayer For The Nations
DESCRIPTION:Every first Thursday of every month\, we take time out to pray and fast for a nation. Today we will globally unite\, consecrating our devotional time in fasting and praying for the nation of Swaziland. \nPrayer points: \n\nHealth and protection for families\nChildren to adjust to the new schooling system\nBreakthrough of our Discipleship process in Swaziland\nTo preach the gospel with boldness and without hindrance\n\n 
URL:https://everynationrosebank.org/event/prayer-for-the-nations-9/
CATEGORIES:Missions
ATTACH;FMTTYPE=image/jpeg:https://everynationrosebank.org/wp-content/uploads/2018/05/fotolia_191718754.jpg
END:VEVENT
BEGIN:VEVENT
DTSTART;VALUE=DATE:20190103
DTEND;VALUE=DATE:20190104
DTSTAMP:20260420T132113
CREATED:20180316T084659Z
LAST-MODIFIED:20180316T084707Z
UID:3665-1546473600-1546559999@everynationrosebank.org
SUMMARY:Prayer For The Nations
DESCRIPTION:Every first Thursday of every month\, we take time out to pray and fast for a nation. Today we will globally unite\, consecrating our devotional time in fasting and praying for the nation of Canada.
URL:https://everynationrosebank.org/event/prayer-for-the-nations-8/
CATEGORIES:Missions
ATTACH;FMTTYPE=image/jpeg:https://everynationrosebank.org/wp-content/uploads/2018/03/fotolia_170036212.jpg
END:VEVENT
BEGIN:VEVENT
DTSTART;VALUE=DATE:20181206
DTEND;VALUE=DATE:20181207
DTSTAMP:20260420T132113
CREATED:20180316T084409Z
LAST-MODIFIED:20180316T084416Z
UID:3662-1544054400-1544140799@everynationrosebank.org
SUMMARY:Prayer For The Nations
DESCRIPTION:Every first Thursday of every month\, we take time out to pray and fast for a nation. Today we will globally unite\, consecrating our devotional time in fasting and praying for the nation of Djibouti in East Africa.
URL:https://everynationrosebank.org/event/prayer-for-the-nations-7/
CATEGORIES:Missions
ATTACH;FMTTYPE=image/jpeg:https://everynationrosebank.org/wp-content/uploads/2018/03/fotolia_192504698.jpg
END:VEVENT
BEGIN:VEVENT
DTSTART;VALUE=DATE:20181101
DTEND;VALUE=DATE:20181102
DTSTAMP:20260420T132113
CREATED:20180316T084018Z
LAST-MODIFIED:20181030T085605Z
UID:3659-1541030400-1541116799@everynationrosebank.org
SUMMARY:Missions Prayer
DESCRIPTION:Every first Thursday of every month\, we take time out to pray and fast for a nation and/or a church plant. Today we will globally unite\, consecrating our devotional time in fasting and praying for church plants and campus ministries in South Africa. \nPrayer points:  \n\nMbombela (Nelspruit):opportunities to share the Gospel and start more discipleship groups on both campus and within the community\nUNIVEN: grace and favor as the campus ministry undergoes leadership transition\nMoselapetlwa (Zeerust): we trust God for more influence and wisdom as the young ministry grow in discipleship.\nIn our campuses:we trust God for all our existing campuses around our nation in pioneering new work
URL:https://everynationrosebank.org/event/missions-prayer/
CATEGORIES:Missions
ATTACH;FMTTYPE=image/jpeg:https://everynationrosebank.org/wp-content/uploads/2018/03/fotolia_218922454.jpg
END:VEVENT
BEGIN:VEVENT
DTSTART;VALUE=DATE:20181004
DTEND;VALUE=DATE:20181005
DTSTAMP:20260420T132113
CREATED:20180316T082552Z
LAST-MODIFIED:20181002T134847Z
UID:3656-1538611200-1538697599@everynationrosebank.org
SUMMARY:Prayer For The Nations
DESCRIPTION:Every first Thursday of every month\, we take time out to pray and fast for a nation. Today we will globally unite\, consecrating our devotional time in fasting and praying for the nation of Albania. \nPrayer points: \n• Pray for spiritual maturity in Christians who come from a long history of communism\, atheism\, or Islam. \n• Pray for Christians to seize opportunities available through religious freedom by ministering to Muslims. \n• Pray for more workers to train nationals to effectively proclaim the Gospel to their country.
URL:https://everynationrosebank.org/event/prayer-for-the-nations-6/
CATEGORIES:Missions
ATTACH;FMTTYPE=image/jpeg:https://everynationrosebank.org/wp-content/uploads/2018/03/fotolia_180179800.jpg
END:VEVENT
BEGIN:VEVENT
DTSTART;VALUE=DATE:20180929
DTEND;VALUE=DATE:20181007
DTSTAMP:20260420T132113
CREATED:20180529T100823Z
LAST-MODIFIED:20180529T100828Z
UID:4012-1538179200-1538870399@everynationrosebank.org
SUMMARY:Mission to Manzini\, Swaziland
DESCRIPTION:To be part of this campus mission contact Nkechi: nobisie@gmail.com. Cost is R3000 per person.
URL:https://everynationrosebank.org/event/mission-to-manzini-swaziland/
CATEGORIES:Missions
ATTACH;FMTTYPE=image/jpeg:https://everynationrosebank.org/wp-content/uploads/2018/05/Missions-Image-2.jpg
END:VEVENT
BEGIN:VEVENT
DTSTART;TZID=Africa/Johannesburg:20180922T183000
DTEND;TZID=Africa/Johannesburg:20180922T200000
DTSTAMP:20260420T132113
CREATED:20180828T105716Z
LAST-MODIFIED:20180828T105722Z
UID:4476-1537641000-1537646400@everynationrosebank.org
SUMMARY:Reach Banquet
DESCRIPTION:Info: missionsrbk@enjhb.org
URL:https://everynationrosebank.org/event/reach-banquet/
CATEGORIES:Missions
ATTACH;FMTTYPE=image/png:https://everynationrosebank.org/wp-content/uploads/2018/08/Reach-Banquet.png
END:VEVENT
BEGIN:VEVENT
DTSTART;VALUE=DATE:20180906
DTEND;VALUE=DATE:20180907
DTSTAMP:20260420T132113
CREATED:20180316T082054Z
LAST-MODIFIED:20180816T121646Z
UID:3653-1536192000-1536278399@everynationrosebank.org
SUMMARY:Prayer For The Nations
DESCRIPTION:Every first Thursday of every month\, we take time out to pray and fast for a nation. Today we will globally unite\, consecrating our devotional time in fasting and praying for the nation of Ghana in West Africa. \nPrayer points: \n\nPray that the hearts of the people would be transformed as the Gospel is preached\nPray for Godly leaders to rise up in the nation\nPray for open doors for Every Nation Ghana to continue making disciples
URL:https://everynationrosebank.org/event/prayer-for-the-nations-5/
CATEGORIES:Missions
ATTACH;FMTTYPE=image/jpeg:https://everynationrosebank.org/wp-content/uploads/2018/03/fotolia_150346274.jpg
END:VEVENT
BEGIN:VEVENT
DTSTART;VALUE=DATE:20180802
DTEND;VALUE=DATE:20180803
DTSTAMP:20260420T132113
CREATED:20180316T081759Z
LAST-MODIFIED:20180727T072759Z
UID:3650-1533168000-1533254399@everynationrosebank.org
SUMMARY:Prayer and Fast For The Nations
DESCRIPTION:Every first Thursday of every month\, we take time out to pray and fast for a nation. Today we will globally unite\, consecrating our devotional time in fasting and praying for the nation of Somalia in East Africa. \nPrayer points: \n\nPray for the protection of Christians in Somalia as they share the Gospel\nPray that those that are reached with the Gospel would be bold enough to accept Jesus\nPray that Christians will find safe ways to read the Bible and gather together
URL:https://everynationrosebank.org/event/prayer-and-fast-for-the-nations-5/
CATEGORIES:Missions
ATTACH;FMTTYPE=image/jpeg:https://everynationrosebank.org/wp-content/uploads/2018/03/fotolia_183498379.jpg
END:VEVENT
BEGIN:VEVENT
DTSTART;VALUE=DATE:20180714
DTEND;VALUE=DATE:20180722
DTSTAMP:20260420T132113
CREATED:20180529T095912Z
LAST-MODIFIED:20180529T100143Z
UID:4008-1531526400-1532217599@everynationrosebank.org
SUMMARY:Mission to Zeerust\, North West
DESCRIPTION:Cost of the mission is R2500 per person. To be part of this mission contact Mama Grace at: gracematoni4@gmail.com
URL:https://everynationrosebank.org/event/mission-to-zeerust-north-west/
CATEGORIES:Missions
ATTACH;FMTTYPE=image/jpeg:https://everynationrosebank.org/wp-content/uploads/2018/05/fotolia_174499552.jpg
END:VEVENT
END:VCALENDAR