BEGIN:VCALENDAR
VERSION:2.0
PRODID:-//Every Nation Rosebank - ECPv6.15.17.1//NONSGML v1.0//EN
CALSCALE:GREGORIAN
METHOD:PUBLISH
X-ORIGINAL-URL:https://everynationrosebank.org
X-WR-CALDESC:Events for Every Nation Rosebank
REFRESH-INTERVAL;VALUE=DURATION:PT1H
X-Robots-Tag:noindex
X-PUBLISHED-TTL:PT1H
BEGIN:VTIMEZONE
TZID:Africa/Johannesburg
BEGIN:STANDARD
TZOFFSETFROM:+0200
TZOFFSETTO:+0200
TZNAME:SAST
DTSTART:20240101T000000
END:STANDARD
END:VTIMEZONE
BEGIN:VEVENT
DTSTART;VALUE=DATE:20251024
DTEND;VALUE=DATE:20251104
DTSTAMP:20260420T205741
CREATED:20250115T095935Z
LAST-MODIFIED:20250901T110822Z
UID:12117-1761264000-1762214399@everynationrosebank.org
SUMMARY:Mission trip to Portugal
DESCRIPTION:We’re going to Portugal! And you can be part of the team. \nNot only will you see God move in power\, bringing His love into a nation and a people that need Him\, but you yourself will be changed forever. That’s what missions do! \nSince 1994\, Every Nation churches around the world have answered the call to bring the Gospel to campuses and cities around the world. Consider joining our 2025 Eswatini Mission Team. \nIf you don’t feel called to go this time\, please consider partering with us in prayer or in financial support. \n  \nLisbon\, Portugal \n24 October – 3 November \nSign up through the ENR app or contact CJ for more information at cjs@enjhb.org \n  \n 
URL:https://everynationrosebank.org/event/missions-2025/
CATEGORIES:Missions
ATTACH;FMTTYPE=image/jpeg:https://everynationrosebank.org/wp-content/uploads/2025/04/MISSION-TO-PORTUGAL.jpg
END:VEVENT
END:VCALENDAR