BEGIN:VCALENDAR
VERSION:2.0
PRODID:-//Every Nation Rosebank - ECPv6.15.17.1//NONSGML v1.0//EN
CALSCALE:GREGORIAN
METHOD:PUBLISH
X-ORIGINAL-URL:https://everynationrosebank.org
X-WR-CALDESC:Events for Every Nation Rosebank
REFRESH-INTERVAL;VALUE=DURATION:PT1H
X-Robots-Tag:noindex
X-PUBLISHED-TTL:PT1H
BEGIN:VTIMEZONE
TZID:Africa/Johannesburg
BEGIN:STANDARD
TZOFFSETFROM:+0200
TZOFFSETTO:+0200
TZNAME:SAST
DTSTART:20240101T000000
END:STANDARD
END:VTIMEZONE
BEGIN:VEVENT
DTSTART;TZID=Africa/Johannesburg:20251108T090000
DTEND;TZID=Africa/Johannesburg:20251108T140000
DTSTAMP:20260421T201509
CREATED:20230517T093948Z
LAST-MODIFIED:20251029T070431Z
UID:10797-1762592400-1762610400@everynationrosebank.org
SUMMARY:Rosebank Wellness Day
DESCRIPTION:The Mobile Wellness Center aims to provide basic health care and education to those who aren’t able to access it. In November\, we will host a Wellness Day here at Every Nation Rosebank to reach our community\, providing a wide range of health care from general check-ups\, eye tests\, dentistry\, counselling and more. Every person we see receives prayer as well. \nIf you are interested in volunteering with us on this day\, or would like to make a donation\, please contact us. \nThursday 8 November\n9 am – 2 pm\nChurch parking lot \nInfo: cjs@enjhb.org \nSign up here.
URL:https://everynationrosebank.org/event/wellness-day/
CATEGORIES:Havens
ATTACH;FMTTYPE=image/png:https://everynationrosebank.org/wp-content/uploads/2025/09/ROSEBANK-WELLNESS-DAY_NOV.png
END:VEVENT
END:VCALENDAR