BEGIN:VCALENDAR
VERSION:2.0
PRODID:-//Every Nation Rosebank - ECPv6.15.17.1//NONSGML v1.0//EN
CALSCALE:GREGORIAN
METHOD:PUBLISH
X-ORIGINAL-URL:https://everynationrosebank.org
X-WR-CALDESC:Events for Every Nation Rosebank
REFRESH-INTERVAL;VALUE=DURATION:PT1H
X-Robots-Tag:noindex
X-PUBLISHED-TTL:PT1H
BEGIN:VTIMEZONE
TZID:Africa/Johannesburg
BEGIN:STANDARD
TZOFFSETFROM:+0200
TZOFFSETTO:+0200
TZNAME:SAST
DTSTART:20240101T000000
END:STANDARD
END:VTIMEZONE
BEGIN:VEVENT
DTSTART;TZID=Africa/Johannesburg:20251004T120000
DTEND;TZID=Africa/Johannesburg:20251004T140000
DTSTAMP:20260420T104237
CREATED:20250821T110717Z
LAST-MODIFIED:20251008T134901Z
UID:13034-1759579200-1759586400@everynationrosebank.org
SUMMARY:Evangelism Outreach
DESCRIPTION:Let’s go! \nJesus prayed for the labourers to go and glean the harvest. We are those who go… \nJoin us as we trust God for opportunities to start conversations with people that lead to a discussion of the Gospel. We go every second Saturday. \n  \nEkurhuleni outreach \n12 -2 pm \nInfo: discipleshiprbk@enjhb.org
URL:https://everynationrosebank.org/event/evangelism-outreach-3/
CATEGORIES:Evangelism Outreach
ATTACH;FMTTYPE=image/png:https://everynationrosebank.org/wp-content/uploads/2025/08/EVANGELISM-OUTREACH_25_2.png
END:VEVENT
BEGIN:VEVENT
DTSTART;TZID=Africa/Johannesburg:20251018T120000
DTEND;TZID=Africa/Johannesburg:20251018T140000
DTSTAMP:20260420T104237
CREATED:20250821T110905Z
LAST-MODIFIED:20251008T134635Z
UID:13036-1760788800-1760796000@everynationrosebank.org
SUMMARY:Evangelism Outreach
DESCRIPTION:Let’s go! \nJesus prayed for the labourers to go and glean the harvest. We are those who go… \nJoin us as we trust God for opportunities to start conversations with people that lead to a discussion of the Gospel. We go every second Saturday. \n  \nStarbucks\, Rosebank mall \n12 -2 pm \nInfo: discipleshiprbk@enjhb.org
URL:https://everynationrosebank.org/event/evangelism-outreach-4/
CATEGORIES:Evangelism Outreach
ATTACH;FMTTYPE=image/png:https://everynationrosebank.org/wp-content/uploads/2025/08/EVANGELISM-OUTREACH_25_7.png
END:VEVENT
END:VCALENDAR