BEGIN:VCALENDAR
VERSION:2.0
PRODID:-//Every Nation Rosebank - ECPv6.15.17.1//NONSGML v1.0//EN
CALSCALE:GREGORIAN
METHOD:PUBLISH
X-ORIGINAL-URL:https://everynationrosebank.org
X-WR-CALDESC:Events for Every Nation Rosebank
REFRESH-INTERVAL;VALUE=DURATION:PT1H
X-Robots-Tag:noindex
X-PUBLISHED-TTL:PT1H
BEGIN:VTIMEZONE
TZID:Africa/Johannesburg
BEGIN:STANDARD
TZOFFSETFROM:+0200
TZOFFSETTO:+0200
TZNAME:SAST
DTSTART:20240101T000000
END:STANDARD
END:VTIMEZONE
BEGIN:VEVENT
DTSTART;TZID=Africa/Johannesburg:20250919T083000
DTEND;TZID=Africa/Johannesburg:20250919T233000
DTSTAMP:20260420T220054
CREATED:20250917T145447Z
LAST-MODIFIED:20250917T145447Z
UID:13131-1758270600-1758324600@everynationrosebank.org
SUMMARY:EN Biz Plenary Watch Party
DESCRIPTION:Join us for our Faith Driven Entrepreneurs Watch Party and Connection on Friday 19 September from 08:30 to 11:30 am in the Every Nation Rosebank Conference Room. \nFor more information\, please contact Dorian Wrigley at dwrigley@everseed.co.za
URL:https://everynationrosebank.org/event/en-biz-plenary-watch-party/
LOCATION:Conference Room
CATEGORIES:Biz
ATTACH;FMTTYPE=image/png:https://everynationrosebank.org/wp-content/uploads/2025/09/EN-BIZ_WATCH-PARTY_SLIDE.png
END:VEVENT
END:VCALENDAR