BEGIN:VCALENDAR
VERSION:2.0
PRODID:-//Every Nation Rosebank - ECPv6.15.17.1//NONSGML v1.0//EN
CALSCALE:GREGORIAN
METHOD:PUBLISH
X-ORIGINAL-URL:https://everynationrosebank.org
X-WR-CALDESC:Events for Every Nation Rosebank
REFRESH-INTERVAL;VALUE=DURATION:PT1H
X-Robots-Tag:noindex
X-PUBLISHED-TTL:PT1H
BEGIN:VTIMEZONE
TZID:UTC
BEGIN:STANDARD
TZOFFSETFROM:+0000
TZOFFSETTO:+0000
TZNAME:UTC
DTSTART:20240101T000000
END:STANDARD
END:VTIMEZONE
BEGIN:VEVENT
DTSTART;TZID=UTC:20250315T090000
DTEND;TZID=UTC:20250315T120000
DTSTAMP:20260421T062237
CREATED:20220315T090221Z
LAST-MODIFIED:20250224T075713Z
UID:9908-1742029200-1742040000@everynationrosebank.org
SUMMARY:EN Biz Plenary
DESCRIPTION: BUSINESS FORUM ON CRUCIAL CONVERSATIONS \n  \nBusiness Forum Events are stand-alone moments where business people can be encouraged with practical business and leadership principles. Each event covers a single topic and provides easy-to-apply handles for people to walk away from the session and action what they have learned.  \n  \nMARCH TOPIC: The key to navigating high stakes discussions  \n  \n15 March 2025 \n9 am -12 noon \nRegister here. \nInfo: biz@enjhb.org  \n  \nLet us know if you would like to host a table \nBusiness Forum Events make use of Table Hosts to host small groups of a maximum of eight people in a group. By allocating the right people to the right tables\, the event is able to serve a large range of business people from top executives to young professionals. These events also present a wonderful opportunity to invite people from the broader business community into a space where there is an exceptional standard of excellence and professionalism in how the content is delivered. \nBusiness Forum is run in partnership with Summittrek and NCCB Church.
URL:https://everynationrosebank.org/event/en-biz-plenary-2/
LOCATION:Conference Room
CATEGORIES:Biz
ATTACH;FMTTYPE=image/png:https://everynationrosebank.org/wp-content/uploads/2022/03/EN-BIZ_EVENT-SLIDE_v2.png
END:VEVENT
END:VCALENDAR