BEGIN:VCALENDAR
VERSION:2.0
PRODID:-//Every Nation Rosebank - ECPv6.15.17.1//NONSGML v1.0//EN
CALSCALE:GREGORIAN
METHOD:PUBLISH
X-WR-CALNAME:Every Nation Rosebank
X-ORIGINAL-URL:https://everynationrosebank.org
X-WR-CALDESC:Events for Every Nation Rosebank
REFRESH-INTERVAL;VALUE=DURATION:PT1H
X-Robots-Tag:noindex
X-PUBLISHED-TTL:PT1H
BEGIN:VTIMEZONE
TZID:Africa/Johannesburg
BEGIN:STANDARD
TZOFFSETFROM:+0200
TZOFFSETTO:+0200
TZNAME:SAST
DTSTART:20230101T000000
END:STANDARD
END:VTIMEZONE
BEGIN:VEVENT
DTSTART;TZID=Africa/Johannesburg:20241208T080000
DTEND;TZID=Africa/Johannesburg:20241208T130000
DTSTAMP:20260421T110657
CREATED:20241119T121330Z
LAST-MODIFIED:20241203T094102Z
UID:11999-1733644800-1733662800@everynationrosebank.org
SUMMARY:Christmas Market
DESCRIPTION:The annual EN Christmas Market is where we celebrate the holiday season with a unique twist of community support and entrepreneurial spirit. This is a wonderful platform for local entrepreneurs to showcase their creative talents and products. \nFor more information or to book a table for your business\, please contact biz@enjhb.org \n 
URL:https://everynationrosebank.org/event/christmas-market-2/
CATEGORIES:Biz
ATTACH;FMTTYPE=image/png:https://everynationrosebank.org/wp-content/uploads/2024/11/2_CHRISTMAS-MARKET.png
END:VEVENT
END:VCALENDAR