BEGIN:VCALENDAR
VERSION:2.0
PRODID:-//Every Nation Rosebank - ECPv6.15.17.1//NONSGML v1.0//EN
CALSCALE:GREGORIAN
METHOD:PUBLISH
X-WR-CALNAME:Every Nation Rosebank
X-ORIGINAL-URL:https://everynationrosebank.org
X-WR-CALDESC:Events for Every Nation Rosebank
REFRESH-INTERVAL;VALUE=DURATION:PT1H
X-Robots-Tag:noindex
X-PUBLISHED-TTL:PT1H
BEGIN:VTIMEZONE
TZID:Africa/Johannesburg
BEGIN:STANDARD
TZOFFSETFROM:+0200
TZOFFSETTO:+0200
TZNAME:SAST
DTSTART:20240101T000000
END:STANDARD
END:VTIMEZONE
BEGIN:VEVENT
DTSTART;TZID=Africa/Johannesburg:20251003T180000
DTEND;TZID=Africa/Johannesburg:20251004T180000
DTSTAMP:20260421T195817
CREATED:20250918T103240Z
LAST-MODIFIED:20250926T075604Z
UID:13136-1759514400-1759600800@everynationrosebank.org
SUMMARY:Youth Victory Training
DESCRIPTION:Inviting the youth to join our special Victory Training especially designed for teens. The focus is on finding freedom\, hope and healing in all areas of your life\, so that you can live fully for God. You are welcome to invite a friend. \n  \nFriday 3 & Saturday 4 October \nFriday: 6 pm – 9 pm (incl. light snacks) \nSaturday: 9 am – 6 pm (incl. lunch & dinner) \nEncounter Room \nR150 per person \nSign up here (registration closes on 1 October)  \nInfo: youthrbk@enjhb.org
URL:https://everynationrosebank.org/event/youth-victory-training/
LOCATION:Encounter Youth Room
CATEGORIES:Encounter Youth,Youth
ATTACH;FMTTYPE=image/png:https://everynationrosebank.org/wp-content/uploads/2025/09/YOUTH-VICTORY-TRAINING_OPTION-2.png
END:VEVENT
END:VCALENDAR