BEGIN:VCALENDAR
VERSION:2.0
PRODID:-//Every Nation Rosebank - ECPv6.15.17.1//NONSGML v1.0//EN
CALSCALE:GREGORIAN
METHOD:PUBLISH
X-WR-CALNAME:Every Nation Rosebank
X-ORIGINAL-URL:http://everynationrosebank.org
X-WR-CALDESC:Events for Every Nation Rosebank
REFRESH-INTERVAL;VALUE=DURATION:PT1H
X-Robots-Tag:noindex
X-PUBLISHED-TTL:PT1H
BEGIN:VTIMEZONE
TZID:Africa/Johannesburg
BEGIN:STANDARD
TZOFFSETFROM:+0200
TZOFFSETTO:+0200
TZNAME:SAST
DTSTART:20250101T000000
END:STANDARD
END:VTIMEZONE
BEGIN:VEVENT
DTSTART;TZID=Africa/Johannesburg:20260305T190000
DTEND;TZID=Africa/Johannesburg:20260305T210000
DTSTAMP:20260419T201159
CREATED:20210922T093130Z
LAST-MODIFIED:20260223T075859Z
UID:9469-1772737200-1772744400@everynationrosebank.org
SUMMARY:Worship Night
DESCRIPTION:Worship Night is where we spend unhurried time in the presence of our King\, worshipping together. It’s always an amazing\, faith-filled time of worship and consecration. Don’t miss it! \nThursday 5 March \n7 pm – 9 pm \nAuditorium \nworshiprbk@enjhb.org \n  \n  \n  \n 
URL:http://everynationrosebank.org/event/worship-night-24/
LOCATION:Auditorium
CATEGORIES:Worship
ATTACH;FMTTYPE=image/png:http://everynationrosebank.org/wp-content/uploads/2021/09/EVENTS-5-WORSHIP-NIGHT.png
END:VEVENT
END:VCALENDAR