BEGIN:VCALENDAR
VERSION:2.0
PRODID:-//Every Nation Rosebank - ECPv6.15.17.1//NONSGML v1.0//EN
CALSCALE:GREGORIAN
METHOD:PUBLISH
X-ORIGINAL-URL:http://everynationrosebank.org
X-WR-CALDESC:Events for Every Nation Rosebank
REFRESH-INTERVAL;VALUE=DURATION:PT1H
X-Robots-Tag:noindex
X-PUBLISHED-TTL:PT1H
BEGIN:VTIMEZONE
TZID:Africa/Johannesburg
BEGIN:STANDARD
TZOFFSETFROM:+0200
TZOFFSETTO:+0200
TZNAME:SAST
DTSTART:20240101T000000
END:STANDARD
END:VTIMEZONE
BEGIN:VEVENT
DTSTART;TZID=Africa/Johannesburg:20250823T080000
DTEND;TZID=Africa/Johannesburg:20250823T120000
DTSTAMP:20260421T191231
CREATED:20250801T080007Z
LAST-MODIFIED:20250801T110605Z
UID:12983-1755936000-1755950400@everynationrosebank.org
SUMMARY:Modderfontein Hike
DESCRIPTION:We are so excited about our upcoming hiking initiative for men and children! It’s going to be a great time of fellowship and fun at Modderfontein Nature Reserve\, which is less than 25 minutes’ drive from church. It will be a 5km hike\, so all children that will be able to handle a 5km hike are welcome. \nSaturday 23 August \n8 am to 12 noon (meet at the venue at 8 am) \nModderfontein Nature Reserve – Cost of hike (to be paid to the teller on arrival):\nR45 (12 years and older); R35 (3-11 years old) \nPlease let us know if you are willing to sponsor someone or can offer a lift from church at 7:30 am \nRegister here.\nInfo: websterm@enjhb.org \nNote: Single moms can sign up their children and they will be assigned to one of the adults.
URL:http://everynationrosebank.org/event/modderfontein-hike/
CATEGORIES:Hosting
ATTACH;FMTTYPE=image/png:http://everynationrosebank.org/wp-content/uploads/2024/03/Men-Childrens-Hike_V2.png
END:VEVENT
END:VCALENDAR