BEGIN:VCALENDAR
VERSION:2.0
PRODID:-//Every Nation Rosebank - ECPv6.15.17.1//NONSGML v1.0//EN
CALSCALE:GREGORIAN
METHOD:PUBLISH
X-WR-CALNAME:Every Nation Rosebank
X-ORIGINAL-URL:http://everynationrosebank.org
X-WR-CALDESC:Events for Every Nation Rosebank
REFRESH-INTERVAL;VALUE=DURATION:PT1H
X-Robots-Tag:noindex
X-PUBLISHED-TTL:PT1H
BEGIN:VTIMEZONE
TZID:Africa/Johannesburg
BEGIN:STANDARD
TZOFFSETFROM:+0200
TZOFFSETTO:+0200
TZNAME:SAST
DTSTART:20240101T000000
END:STANDARD
END:VTIMEZONE
BEGIN:VEVENT
DTSTART;VALUE=DATE:20250202
DTEND;VALUE=DATE:20250203
DTSTAMP:20260422T135754
CREATED:20250115T090735Z
LAST-MODIFIED:20250115T141110Z
UID:12108-1738454400-1738540799@everynationrosebank.org
SUMMARY:Connect Sunday
DESCRIPTION:We are so excited about our upcoming Connect Sunday on the 2nd of February. You will be able to learn more about our connect groups and meet some of our leaders. \nWe believe that in 2025\, we are going to connect more than ever before as a community of believers. You might have heard the exciting news about our new connect group system! We want to make connect groups relevant for every season that you find yourself in. Seasons tend to have a lifespan\, so we invite you to prayerfully consider whether in this connect season of 2025\, you will be staying in your current connect group\, whether you will be shifting to a different group or whether you will starting your own connect group. Different connect groups will have different focuses. Let’s connect more in 2025 as we step into His purposes and plan for the year ahead. \nJoin a connect this year. It will be one of the best decisions you’ll make!
URL:http://everynationrosebank.org/event/connect-sunday-2/
CATEGORIES:Discipleship
ATTACH;FMTTYPE=image/png:http://everynationrosebank.org/wp-content/uploads/2025/01/CONNECT-SUNDAY.png
END:VEVENT
BEGIN:VEVENT
DTSTART;TZID=Africa/Johannesburg:20250222T090000
DTEND;TZID=Africa/Johannesburg:20250222T113000
DTSTAMP:20260422T135754
CREATED:20210810T104809Z
LAST-MODIFIED:20250131T104826Z
UID:9341-1740214800-1740223800@everynationrosebank.org
SUMMARY:Connect Convergence
DESCRIPTION:Connect leaders connecting \nConnect Convergence is a time where our connect leaders or those starting connect groups can come together for fun\, training and envisioning. This is a vital time for our connect leaders and those they are raising up as leaders. Sign up and don’t miss it – it’s going to be great! \nSaturday 22 February \n9 am – 11:30 am \nRegister here. \nInfo: discipleshiprbk@enjhb.org
URL:http://everynationrosebank.org/event/connect-convergence-5/
LOCATION:Auditorium
CATEGORIES:Discipleship
ATTACH;FMTTYPE=image/png:http://everynationrosebank.org/wp-content/uploads/2021/08/CONNECT-CONVERGENCE-1.png
ORGANIZER;CN="Discipleship":MAILTO:discipleshiprbk@enjhb.org
END:VEVENT
END:VCALENDAR