BEGIN:VCALENDAR
VERSION:2.0
PRODID:-//Every Nation Rosebank - ECPv6.15.17.1//NONSGML v1.0//EN
CALSCALE:GREGORIAN
METHOD:PUBLISH
X-WR-CALNAME:Every Nation Rosebank
X-ORIGINAL-URL:http://everynationrosebank.org
X-WR-CALDESC:Events for Every Nation Rosebank
REFRESH-INTERVAL;VALUE=DURATION:PT1H
X-Robots-Tag:noindex
X-PUBLISHED-TTL:PT1H
BEGIN:VTIMEZONE
TZID:Africa/Johannesburg
BEGIN:STANDARD
TZOFFSETFROM:+0200
TZOFFSETTO:+0200
TZNAME:SAST
DTSTART:20230101T000000
END:STANDARD
END:VTIMEZONE
BEGIN:VEVENT
DTSTART;VALUE=DATE:20241110
DTEND;VALUE=DATE:20241111
DTSTAMP:20260422T183629
CREATED:20241028T100908Z
LAST-MODIFIED:20241030T150513Z
UID:11977-1731196800-1731283199@everynationrosebank.org
SUMMARY:Welcome to the family
DESCRIPTION:WELCOME TO THE FAMILY SERVICE \n  \nIf you’ve been with us for a while or have attended Discover Every Nation and have decided that this is your spiritual home\, we’d love to officially welcome you to the family in our Sunday service. This is a wonderful community moment and we look forward to being there with you! \n  \nSunday 10 November \nRegistrations close on the Thursday before \nAuditorium \nRegister here. \nInfo: discipleshiprbk.enjhb.org
URL:http://everynationrosebank.org/event/welcome-to-the-family/
LOCATION:Auditorium
CATEGORIES:Discipleship
ATTACH;FMTTYPE=image/png:http://everynationrosebank.org/wp-content/uploads/2024/10/WELCOME-TO-THE-FAMILY.png
END:VEVENT
END:VCALENDAR