BEGIN:VCALENDAR
VERSION:2.0
PRODID:-//Every Nation Rosebank - ECPv6.15.17.1//NONSGML v1.0//EN
CALSCALE:GREGORIAN
METHOD:PUBLISH
X-ORIGINAL-URL:http://everynationrosebank.org
X-WR-CALDESC:Events for Every Nation Rosebank
REFRESH-INTERVAL;VALUE=DURATION:PT1H
X-Robots-Tag:noindex
X-PUBLISHED-TTL:PT1H
BEGIN:VTIMEZONE
TZID:Africa/Johannesburg
BEGIN:STANDARD
TZOFFSETFROM:+0200
TZOFFSETTO:+0200
TZNAME:SAST
DTSTART:20230101T000000
END:STANDARD
END:VTIMEZONE
BEGIN:VEVENT
DTSTART;TZID=Africa/Johannesburg:20240831T160000
DTEND;TZID=Africa/Johannesburg:20240831T193000
DTSTAMP:20260422T231254
CREATED:20240723T082140Z
LAST-MODIFIED:20240731T132354Z
UID:11812-1725120000-1725132600@everynationrosebank.org
SUMMARY:Ultimate Rugby Watch Party
DESCRIPTION:Catch the Springboks vs All Blacks clash on Saturday 31 August. \n Doors Open: 16:00\n Kick-off: 17:00\n Free admission\n Food and drinks for sale\n Bring your connect group\, a neighbour or invite a friend! \nRegister here. \nJoin us for a thrilling game and great company. Community is important\, so let’s gather\, cheer and celebrate together!
URL:http://everynationrosebank.org/event/ultimate-rugby-watch-party/
CATEGORIES:Discipleship
ATTACH;FMTTYPE=image/png:http://everynationrosebank.org/wp-content/uploads/2023/11/THE-ULTIMATE-RUGBY-WATCH-PARTY-.png
END:VEVENT
END:VCALENDAR